Workbook

Sheet tekija1
A1: Päiväys | C1: Suunniteltu | D1: Toteutunut | E1: Tekijä | F1: Tehtävä | G1: Kuvaus
A2: 46241 | B2: ma
A3: =A2+1 -> 46242 | B3: ti
A4: =A3+1 -> 46243 | B4: ke | C4: 2.5 | D4: 2 | E4: Eetu Esimerkki | F4: User story 2: kirjautuminen
A5: =A4+1 -> 46244 | B5: to | C5: 5.5 | D5: 5.5 | E5: Eetu Esimerkki | F5: User story 2: kirjautuminen
A6: =A5+1 -> 46245 | B6: pe | C6: 5.5 | D6: 5.5 | E6: Eetu Esimerkki | F6: User story 6: omat tiedot
A7: =A2+7 -> 46248 | B7: ma
A8: =A3+7 -> 46249 | B8: ti
A9: =A4+7 -> 46250 | B9: ke | C9: 2
A10: =A5+7 -> 46251 | B10: to | C10: 5
A11: =A6+7 -> 46252 | B11: pe | C11: 8
A12: =A7+7 -> 46255 | B12: ma
A13: =A8+7 -> 46256 | B13: ti
A14: =A9+7 -> 46257 | B14: ke
A15: =A10+7 -> 46258 | B15: to
A16: =A11+7 -> 46259 | B16: pe
A17: =A12+7 -> 46262 | B17: ma
A18: =A13+7 -> 46263 | B18: ti
A19: =A14+7 -> 46264 | B19: ke
A20: =A15+7 -> 46265 | B20: to
A21: =A16+7 -> 46266 | B21: pe
A22: =A17+7 -> 46269 | B22: ma
A23: =A18+7 -> 46270 | B23: ti
... A51: =A46+7 -> 46308 | B51: pe

Sheet tekija2
A1: Päiväys | C1: Suunniteltu | D1: Toteutunut | E1: Tekijä | F1: Tehtävä | G1: Kuvaus
A2: 46241 | B2: ma
A3: =A2+1 -> 46242 | B3: ti
A4: =A3+1 -> 46243 | B4: ke
A5: =A4+1 -> 46244 | B5: to
A6: =A5+1 -> 46245 | B6: pe
A7: =A2+7 -> 46248 | B7: ma
A8: =A3+7 -> 46249 | B8: ti
A9: =A4+7 -> 46250 | B9: ke
A10: =A5+7 -> 46251 | B10: to
A11: =A6+7 -> 46252 | B11: pe
A12: =A7+7 -> 46255 | B12: ma
A13: =A8+7 -> 46256 | B13: ti
A14: =A9+7 -> 46257 | B14: ke
A15: =A10+7 -> 46258 | B15: to
A16: =A11+7 -> 46259 | B16: pe
A17: =A12+7 -> 46262 | B17: ma
A18: =A13+7 -> 46263 | B18: ti
... A51: =A46+7 -> 46308 | B51: pe

Sheet tekija3
A1: Päiväys | C1: Suunniteltu | D1: Toteutunut | E1: Tekijä | F1: Tehtävä | G1: Kuvaus
A2: 46241 | B2: ma
A3: =A2+1 -> 46242 | B3: ti
A4: =A3+1 -> 46243 | B4: ke
A5: =A4+1 -> 46244 | B5: to
A6: =A5+1 -> 46245 | B6: pe
A7: =A2+7 -> 46248 | B7: ma
A8: =A3+7 -> 46249 | B8: ti
A9: =A4+7 -> 46250 | B9: ke
A10: =A5+7 -> 46251 | B10: to
A11: =A6+7 -> 46252 | B11: pe
A12: =A7+7 -> 46255 | B12: ma
A13: =A8+7 -> 46256 | B13: ti
A14: =A9+7 -> 46257 | B14: ke
A15: =A10+7 -> 46258 | B15: to
A16: =A11+7 -> 46259 | B16: pe
A17: =A12+7 -> 46262 | B17: ma
A18: =A13+7 -> 46263 | B18: ti
... A51: =A46+7 -> 46308 | B51: pe

Sheet yhteenveto
B2: Tehtävä | C2: Tekijä 1 | D2: Tekijä 2 | E2: Tekijä 3 | F2: Yhteensä
B3: User story 1: rekisteröityminen | C3: =SUMIF(tekija1!$F:$F,yhteenveto!$B3,tekija1!$D:$D) -> 0 | D3: =SUMIF(tekija2!$F:$F,yhteenveto!$B3,tekija2!$D:$D) -> 0 | E3: =SUMIF(tekija3!$F:$F,yhteenveto!$B3,tekija3!$D:$D) -> 0 | F3: =SUM(C3:E3) -> 0
B4: User story 2: kirjautuminen | C4: =SUMIF(tekija1!$F:$F,yhteenveto!$B4,tekija1!$D:$D) -> 7.5 | D4: =SUMIF(tekija2!$F:$F,yhteenveto!$B4,tekija2!$D:$D) -> 0 | E4: =SUMIF(tekija3!$F:$F,yhteenveto!$B4,tekija3!$D:$D) -> 0 | F4: =SUM(C4:E4) -> 7.5
B5: User story 4: salasanan palauttaminen | C5: =SUMIF(tekija1!$F:$F,yhteenveto!$B5,tekija1!$D:$D) -> 0 | D5: =SUMIF(tekija2!$F:$F,yhteenveto!$B5,tekija2!$D:$D) -> 0 | E5: =SUMIF(tekija3!$F:$F,yhteenveto!$B5,tekija3!$D:$D) -> 0 | F5: =SUM(C5:E5) -> 0
B6: User story 5: admin turnauksen luonti | C6: =SUMIF(tekija1!$F:$F,yhteenveto!$B6,tekija1!$D:$D) -> 0 | D6: =SUMIF(tekija2!$F:$F,yhteenveto!$B6,tekija2!$D:$D) -> 0 | E6: =SUMIF(tekija3!$F:$F,yhteenveto!$B6,tekija3!$D:$D) -> 0 | F6: =SUM(C6:E6) -> 0
B7: User story 6: omat tiedot | C7: =SUMIF(tekija1!$F:$F,yhteenveto!$B7,tekija1!$D:$D) -> 5.5 | D7: =SUMIF(tekija2!$F:$F,yhteenveto!$B7,tekija2!$D:$D) -> 0 | E7: =SUMIF(tekija3!$F:$F,yhteenveto!$B7,tekija3!$D:$D) -> 0 | F7: =SUM(C7:E7) -> 5.5
B8: Yhteensä | C8: =SUM(C3:C7) -> 13 | D8: =SUM(D3:D7) -> 0 | E8: =SUM(E3:E7) -> 0 | F8: =SUM(C8:E8) -> 13
